BEGIN:VCALENDAR
VERSION:2.0
PRODID:-//hacksw/handcal//NONSGML v1.0//EN
BEGIN:VEVENT
SUMMARY:Stage de printemps, preparation interclubs
UID:325cf372-14ae-4805-9c1a-ee002346d6d4
DTSTART:20260412T220000Z
DTEND:20260416T220000Z
LOCATION:Localisation   
CATEGORIES:Sportif
STATUS:
URL;VALUE=URI:https://www.joue-athle.fr/evenements/2026/04/13/stage-de-printemps-preparation-interclubs-2434855
END:VEVENT
END:VCALENDAR
