BEGIN:VCALENDAR
VERSION:2.0
PRODID:-//hacksw/handcal//NONSGML v1.0//EN
BEGIN:VEVENT
SUMMARY:Departementaux BE/MI a Avoine
UID:5a2da52d-6557-4035-9cb0-d49892d55d42
DTSTART:20260411T220000Z
DTEND:20260412T220000Z
LOCATION:Localisation   
CATEGORIES:Sportif
STATUS:
URL;VALUE=URI:https://www.joue-athle.fr/evenements/2026/04/12/departementaux-bemi-a-avoine-2250014
END:VEVENT
END:VCALENDAR
