BEGIN:VCALENDAR
VERSION:2.0
PRODID:-//hacksw/handcal//NONSGML v1.0//EN
BEGIN:VEVENT
SUMMARY:Assemblee Generale Extraordinaire
UID:c783de77-27a2-49ba-ba56-7c2ff0fc73f2
DTSTART:20260408T161500Z
DTEND:20260408T173000Z
LOCATION:Localisation   
CATEGORIES:Administratif
STATUS:
URL;VALUE=URI:https://www.joue-athle.fr/evenements/2026/04/08/assemblee-generale-extraordinaire-2435613
END:VEVENT
END:VCALENDAR
